BEGIN:VCALENDAR
VERSION:2.0
PRODID:-//Diversity Roundtable - ECPv6.15.15//NONSGML v1.0//EN
CALSCALE:GREGORIAN
METHOD:PUBLISH
X-WR-CALNAME:Diversity Roundtable
X-ORIGINAL-URL:https://diversitytippecanoe.org
X-WR-CALDESC:Events for Diversity Roundtable
REFRESH-INTERVAL;VALUE=DURATION:PT1H
X-Robots-Tag:noindex
X-PUBLISHED-TTL:PT1H
BEGIN:VTIMEZONE
TZID:UTC
BEGIN:STANDARD
TZOFFSETFROM:+0000
TZOFFSETTO:+0000
TZNAME:UTC
DTSTART:20250101T000000
END:STANDARD
END:VTIMEZONE
BEGIN:VEVENT
DTSTART;TZID=UTC:20260108T113000
DTEND;TZID=UTC:20260108T130000
DTSTAMP:20260423T134600
CREATED:20260105T170826Z
LAST-MODIFIED:20260130T185015Z
UID:2129-1767871800-1767877200@diversitytippecanoe.org
SUMMARY:Diversity Roundtable Meeting January 2026
DESCRIPTION:The DRT Meeting for January 8\, 2026 will be GenderNexus.  The speaker will be Lane Johnson\, CRC\, LMHCA (they/he/Mr.). \n2026 01 08 Agenda \nDRTJanuary2026Minutes \nSupporting the Transgender People in Your Life – A Guide to Being a Good Ally (1) \nTrans 101 \nTransgender FAQ (1) \n 
URL:https://diversitytippecanoe.org/event/diversity-roundtable-meeting-january-2026/
LOCATION:Wells Community Cultural Center\, 638 North St\, Lafayette\, IN\, 47901
END:VEVENT
END:VCALENDAR