BEGIN:VCALENDAR
VERSION:2.0
PRODID:-//Diversity Roundtable - ECPv6.15.15//NONSGML v1.0//EN
CALSCALE:GREGORIAN
METHOD:PUBLISH
X-WR-CALNAME:Diversity Roundtable
X-ORIGINAL-URL:https://diversitytippecanoe.org
X-WR-CALDESC:Events for Diversity Roundtable
REFRESH-INTERVAL;VALUE=DURATION:PT1H
X-Robots-Tag:noindex
X-PUBLISHED-TTL:PT1H
BEGIN:VTIMEZONE
TZID:UTC
BEGIN:STANDARD
TZOFFSETFROM:+0000
TZOFFSETTO:+0000
TZNAME:UTC
DTSTART:20250101T000000
END:STANDARD
END:VTIMEZONE
BEGIN:VEVENT
DTSTART;TZID=UTC:20260305T113000
DTEND;TZID=UTC:20260305T130000
DTSTAMP:20260421T101720
CREATED:20260227T214955Z
LAST-MODIFIED:20260330T171600Z
UID:2155-1772710200-1772715600@diversitytippecanoe.org
SUMMARY:Diversity Roundtable Meeting March 2026
DESCRIPTION:The DRT Meeting for March 5\, 2026 will be Pride 101 by Derrick Jones\, Director of Greater Lafayette Pride. \n2026 03 05 Agenda \n2026 03 05 Minutes \n 
URL:https://diversitytippecanoe.org/event/diversity-roundtable-meeting-march-2026/
LOCATION:Wells Community Cultural Center\, 638 North St\, Lafayette\, IN\, 47901
END:VEVENT
END:VCALENDAR