BEGIN:VCALENDAR
VERSION:2.0
PRODID:-//Diversity Roundtable - ECPv6.15.15//NONSGML v1.0//EN
CALSCALE:GREGORIAN
METHOD:PUBLISH
X-WR-CALNAME:Diversity Roundtable
X-ORIGINAL-URL:https://diversitytippecanoe.org
X-WR-CALDESC:Events for Diversity Roundtable
REFRESH-INTERVAL;VALUE=DURATION:PT1H
X-Robots-Tag:noindex
X-PUBLISHED-TTL:PT1H
BEGIN:VTIMEZONE
TZID:UTC
BEGIN:STANDARD
TZOFFSETFROM:+0000
TZOFFSETTO:+0000
TZNAME:UTC
DTSTART:20250101T000000
END:STANDARD
END:VTIMEZONE
BEGIN:VEVENT
DTSTART;TZID=UTC:20260402T113000
DTEND;TZID=UTC:20260402T130000
DTSTAMP:20260423T102322
CREATED:20260330T172121Z
LAST-MODIFIED:20260330T172233Z
UID:2163-1775129400-1775134800@diversitytippecanoe.org
SUMMARY:Diversity Roundtable Meeting April 2026
DESCRIPTION:The DRT Meeting for April 2\, 2026 will be Update on GLC.  The speakers will be Mikel Berger\, President and CEO\, and Jeremy Lemus\, Manager of Latino Business Initiatives. \n2026 04 02 Agenda
URL:https://diversitytippecanoe.org/event/diversity-roundtable-meeting-april-2026/
LOCATION:Wells Community Cultural Center\, 638 North St\, Lafayette\, IN\, 47901
END:VEVENT
END:VCALENDAR