BEGIN:VCALENDAR
VERSION:2.0
PRODID:-//Diversity Roundtable - ECPv6.15.15//NONSGML v1.0//EN
CALSCALE:GREGORIAN
METHOD:PUBLISH
X-WR-CALNAME:Diversity Roundtable
X-ORIGINAL-URL:https://diversitytippecanoe.org
X-WR-CALDESC:Events for Diversity Roundtable
REFRESH-INTERVAL;VALUE=DURATION:PT1H
X-Robots-Tag:noindex
X-PUBLISHED-TTL:PT1H
BEGIN:VTIMEZONE
TZID:UTC
BEGIN:STANDARD
TZOFFSETFROM:+0000
TZOFFSETTO:+0000
TZNAME:UTC
DTSTART:20240101T000000
END:STANDARD
END:VTIMEZONE
BEGIN:VEVENT
DTSTART;TZID=UTC:20260205T113000
DTEND;TZID=UTC:20260205T130000
DTSTAMP:20260423T103034
CREATED:20260130T185620Z
LAST-MODIFIED:20260227T214256Z
UID:2146-1770291000-1770296400@diversitytippecanoe.org
SUMMARY:Diversity Roundtable Meeting February 2026
DESCRIPTION:The DRT Meeting for February 5\, 2026 will be Juggling through Black History by Jos Holman\, Director of TCPL and member of DRT Steering Team. \n2026 02 05 Agenda \n2026 02 05 Minutes
URL:https://diversitytippecanoe.org/event/diversity-roundtable-meeting-february-2026/
LOCATION:Wells Community Cultural Center\, 638 North St\, Lafayette\, IN\, 47901
END:VEVENT
BEGIN:VEVENT
DTSTART;TZID=UTC:20260108T113000
DTEND;TZID=UTC:20260108T130000
DTSTAMP:20260423T103034
CREATED:20260105T170826Z
LAST-MODIFIED:20260130T185015Z
UID:2129-1767871800-1767877200@diversitytippecanoe.org
SUMMARY:Diversity Roundtable Meeting January 2026
DESCRIPTION:The DRT Meeting for January 8\, 2026 will be GenderNexus.  The speaker will be Lane Johnson\, CRC\, LMHCA (they/he/Mr.). \n2026 01 08 Agenda \nDRTJanuary2026Minutes \nSupporting the Transgender People in Your Life – A Guide to Being a Good Ally (1) \nTrans 101 \nTransgender FAQ (1) \n 
URL:https://diversitytippecanoe.org/event/diversity-roundtable-meeting-january-2026/
LOCATION:Wells Community Cultural Center\, 638 North St\, Lafayette\, IN\, 47901
END:VEVENT
BEGIN:VEVENT
DTSTART;TZID=UTC:20251204T113000
DTEND;TZID=UTC:20251204T130000
DTSTAMP:20260423T103034
CREATED:20251130T191137Z
LAST-MODIFIED:20260105T171120Z
UID:2122-1764847800-1764853200@diversitytippecanoe.org
SUMMARY:Diversity Roundtable Meeting December 2025
DESCRIPTION:The meeting for December 4\, 2025 will be on MyPath and DEI.  The speaker will be Tenecia Waddell-Pyle\, MyPath Director of Diversity\, Equity\, and Inclusion. \n2025 12 04 Agenda \nDRTDec2025Minutes \n 
URL:https://diversitytippecanoe.org/event/diversity-roundtable-meeting-december-2025/
LOCATION:Wells Community Cultural Center\, 638 North St\, Lafayette\, IN\, 47901
END:VEVENT
BEGIN:VEVENT
DTSTART;TZID=UTC:20251106T113000
DTEND;TZID=UTC:20251106T130000
DTSTAMP:20260423T103034
CREATED:20251103T174555Z
LAST-MODIFIED:20251130T185454Z
UID:2109-1762428600-1762434000@diversitytippecanoe.org
SUMMARY:Diversity Roundtable Meeting November 2025
DESCRIPTION:The DRT Meeting for November 6th will be a Rental Housing Report.  The speaker will be Nathan McBurnett\, Urban Planner with Area Planning Commission for Tippecanoe County. \n2025 11 06 Agenda \nDRT Presentation November 2025 \nDRT Minutes 11-6-25 \n 
URL:https://diversitytippecanoe.org/event/diversity-roundtable-meeting-november-2025/
LOCATION:Wells Community Cultural Center\, 638 North St\, Lafayette\, IN\, 47901
END:VEVENT
BEGIN:VEVENT
DTSTART;TZID=UTC:20251002T113000
DTEND;TZID=UTC:20251002T130000
DTSTAMP:20260423T103034
CREATED:20250928T182558Z
LAST-MODIFIED:20251103T174910Z
UID:2099-1759404600-1759410000@diversitytippecanoe.org
SUMMARY:Diversity Roundtable Meeting October 2025
DESCRIPTION:The DRT Meeting for October 2nd will be A Snapshot of Local English-Learning Students.  The speaker will be Oscar Trujillo\, Region 2 Migrant Education Program Coordinator. \n2025 10 02 Agenda \n2025 10 02 Minutes \n 
URL:https://diversitytippecanoe.org/event/diversity-roundtable-meeting-october-2025/
LOCATION:Wells Community Cultural Center\, 638 North St\, Lafayette\, IN\, 47901
END:VEVENT
BEGIN:VEVENT
DTSTART;TZID=UTC:20250904T113000
DTEND;TZID=UTC:20250904T130000
DTSTAMP:20260423T103034
CREATED:20250821T192836Z
LAST-MODIFIED:20250928T182939Z
UID:2093-1756985400-1756990800@diversitytippecanoe.org
SUMMARY:Diversity Roundtable Meeting September 2025
DESCRIPTION:The DRT Meeting for September 4th will be Immigration.  The speaker will be Dr. Margaret Hass. \n2025 09 04 Agenda \n2025 09 04 Minutes
URL:https://diversitytippecanoe.org/event/diversity-roundtable-meeting-september-2025/
LOCATION:Wells Community Cultural Center\, 638 North St\, Lafayette\, IN\, 47901
END:VEVENT
BEGIN:VEVENT
DTSTART;TZID=UTC:20250807T113000
DTEND;TZID=UTC:20250807T130000
DTSTAMP:20260423T103034
CREATED:20250804T184921Z
LAST-MODIFIED:20250807T202226Z
UID:2084-1754566200-1754571600@diversitytippecanoe.org
SUMMARY:Diversity Roundtable Meeting August 2025
DESCRIPTION:The DRT Meeting for August 7th will be Journalism\, the impact of its demise on communities\, on governmental conduct\, on citizen participation\, and on the exercise of free speech.  The speaker will be Dave Bangert of Based in Lafayette Substack. \n2025 08 07 Agenda \n2025-08-07-Minutes
URL:https://diversitytippecanoe.org/event/diversity-roundtable-meeting-august-2025/
LOCATION:Wells Community Cultural Center\, 638 North St\, Lafayette\, IN\, 47901
END:VEVENT
BEGIN:VEVENT
DTSTART;TZID=UTC:20250710T113000
DTEND;TZID=UTC:20250710T130000
DTSTAMP:20260423T103034
CREATED:20250626T180929Z
LAST-MODIFIED:20250804T184137Z
UID:2065-1752147000-1752152400@diversitytippecanoe.org
SUMMARY:Diversity Roundtable Meeting July 2025
DESCRIPTION:The DRT Meeting for July 10th will be Racism as a Public Health Crisis Community Action Team\, presented by Andrew Lane. \n2025 07 10 Agenda \n2025 07 10 Minutes \nCAT DRT presentation
URL:https://diversitytippecanoe.org/event/diversity-roundtable-meeting-july-2025/
LOCATION:Wells Community Cultural Center\, 638 North St\, Lafayette\, IN\, 47901
END:VEVENT
BEGIN:VEVENT
DTSTART;TZID=UTC:20250605T113000
DTEND;TZID=UTC:20250605T130000
DTSTAMP:20260423T103034
CREATED:20250602T205709Z
LAST-MODIFIED:20250626T181238Z
UID:2057-1749123000-1749128400@diversitytippecanoe.org
SUMMARY:Diversity Roundtable Meeting June 2025
DESCRIPTION:The DRT Meeting for June 5the will be an update of Hanna Community Center\, by Kajen Moore\, Executive Director. \n2025 06 05 Agenda \n2025 06 05 Minutes
URL:https://diversitytippecanoe.org/event/diversity-roundtable-meeting-june-2025/
LOCATION:Wells Community Cultural Center\, 638 North St\, Lafayette\, IN\, 47901
END:VEVENT
BEGIN:VEVENT
DTSTART;TZID=UTC:20250501T113000
DTEND;TZID=UTC:20250501T130000
DTSTAMP:20260423T103034
CREATED:20250427T193824Z
LAST-MODIFIED:20250602T205118Z
UID:2047-1746099000-1746104400@diversitytippecanoe.org
SUMMARY:Diversity Roundtable Meeting May 2025
DESCRIPTION:The DRT Meeting for May 1st will be Concerns of Arab/Muslims in the Greater Lafayette Area\, presented by Dr. Akram Almakki. \n2025 05 01 Agenda \nDRT Minutes 5.1.2025
URL:https://diversitytippecanoe.org/event/diversity-roundtable-meeting-may-2025/
LOCATION:Wells Community Cultural Center\, 638 North St\, Lafayette\, IN\, 47901
END:VEVENT
END:VCALENDAR