BEGIN:VCALENDAR
VERSION:2.0
PRODID:-//Diversity Roundtable - ECPv6.15.15//NONSGML v1.0//EN
CALSCALE:GREGORIAN
METHOD:PUBLISH
X-WR-CALNAME:Diversity Roundtable
X-ORIGINAL-URL:https://diversitytippecanoe.org
X-WR-CALDESC:Events for Diversity Roundtable
REFRESH-INTERVAL;VALUE=DURATION:PT1H
X-Robots-Tag:noindex
X-PUBLISHED-TTL:PT1H
BEGIN:VTIMEZONE
TZID:UTC
BEGIN:STANDARD
TZOFFSETFROM:+0000
TZOFFSETTO:+0000
TZNAME:UTC
DTSTART:20240101T000000
END:STANDARD
END:VTIMEZONE
BEGIN:VEVENT
DTSTART;TZID=UTC:20250710T113000
DTEND;TZID=UTC:20250710T130000
DTSTAMP:20260424T000415
CREATED:20250626T180929Z
LAST-MODIFIED:20250804T184137Z
UID:2065-1752147000-1752152400@diversitytippecanoe.org
SUMMARY:Diversity Roundtable Meeting July 2025
DESCRIPTION:The DRT Meeting for July 10th will be Racism as a Public Health Crisis Community Action Team\, presented by Andrew Lane. \n2025 07 10 Agenda \n2025 07 10 Minutes \nCAT DRT presentation
URL:https://diversitytippecanoe.org/event/diversity-roundtable-meeting-july-2025/
LOCATION:Wells Community Cultural Center\, 638 North St\, Lafayette\, IN\, 47901
END:VEVENT
END:VCALENDAR