BEGIN:VCALENDAR
VERSION:2.0
PRODID:-//Diversity Roundtable - ECPv6.15.15//NONSGML v1.0//EN
CALSCALE:GREGORIAN
METHOD:PUBLISH
X-ORIGINAL-URL:https://diversitytippecanoe.org
X-WR-CALDESC:Events for Diversity Roundtable
REFRESH-INTERVAL;VALUE=DURATION:PT1H
X-Robots-Tag:noindex
X-PUBLISHED-TTL:PT1H
BEGIN:VTIMEZONE
TZID:UTC
BEGIN:STANDARD
TZOFFSETFROM:+0000
TZOFFSETTO:+0000
TZNAME:UTC
DTSTART:20240101T000000
END:STANDARD
END:VTIMEZONE
BEGIN:VEVENT
DTSTART;TZID=UTC:20251106T113000
DTEND;TZID=UTC:20251106T130000
DTSTAMP:20260423T151359
CREATED:20251103T174555Z
LAST-MODIFIED:20251130T185454Z
UID:2109-1762428600-1762434000@diversitytippecanoe.org
SUMMARY:Diversity Roundtable Meeting November 2025
DESCRIPTION:The DRT Meeting for November 6th will be a Rental Housing Report.  The speaker will be Nathan McBurnett\, Urban Planner with Area Planning Commission for Tippecanoe County. \n2025 11 06 Agenda \nDRT Presentation November 2025 \nDRT Minutes 11-6-25 \n 
URL:https://diversitytippecanoe.org/event/diversity-roundtable-meeting-november-2025/
LOCATION:Wells Community Cultural Center\, 638 North St\, Lafayette\, IN\, 47901
END:VEVENT
END:VCALENDAR