BEGIN:VCALENDAR
VERSION:2.0
PRODID:-//Diversity Roundtable - ECPv6.15.15//NONSGML v1.0//EN
CALSCALE:GREGORIAN
METHOD:PUBLISH
X-WR-CALNAME:Diversity Roundtable
X-ORIGINAL-URL:https://diversitytippecanoe.org
X-WR-CALDESC:Events for Diversity Roundtable
REFRESH-INTERVAL;VALUE=DURATION:PT1H
X-Robots-Tag:noindex
X-PUBLISHED-TTL:PT1H
BEGIN:VTIMEZONE
TZID:UTC
BEGIN:STANDARD
TZOFFSETFROM:+0000
TZOFFSETTO:+0000
TZNAME:UTC
DTSTART:20240101T000000
END:STANDARD
END:VTIMEZONE
BEGIN:VEVENT
DTSTART;TZID=UTC:20251204T113000
DTEND;TZID=UTC:20251204T130000
DTSTAMP:20260423T134325
CREATED:20251130T191137Z
LAST-MODIFIED:20260105T171120Z
UID:2122-1764847800-1764853200@diversitytippecanoe.org
SUMMARY:Diversity Roundtable Meeting December 2025
DESCRIPTION:The meeting for December 4\, 2025 will be on MyPath and DEI.  The speaker will be Tenecia Waddell-Pyle\, MyPath Director of Diversity\, Equity\, and Inclusion. \n2025 12 04 Agenda \nDRTDec2025Minutes \n 
URL:https://diversitytippecanoe.org/event/diversity-roundtable-meeting-december-2025/
LOCATION:Wells Community Cultural Center\, 638 North St\, Lafayette\, IN\, 47901
END:VEVENT
END:VCALENDAR